Workbook

Sheet Tabelle1
A3: Wertungspunkte von 1-10 | C3: 1 | D3: 1 | E3: 1 | F3: 5 | G3: 5 | H3: 5 | I3: 1 | J3: 5 | K3: 1 | L3: 1 | M3: 1 | N3: 1 | O3: 1 | P3: 10
C4: Marke | D4: Modell | E4: CPU | F4: GHz | G4: Kerne | H4: RAM GB | I4: SSD/HDD | J4: Speicher | K4: Akku Stunden | L4: Auflösung | M4: Größe Zoll | N4: Gewicht | O4: Höhe | P4: Preis
C5: Lenovo | D5: T450s | E5: i7-5600u | F5: 2.6 | G5: 2 | H5: 12 | I5: SSD | J5: 512 | K5: 19 | L5: 1920*1080 | M5: 14 | N5: 1.6 | O5: 21 | P5: 1899
C6: Lenovo | D6: X1 Carbon | E6: i5-4300u | F6: 1.9 | G6: 2 | H6: 8 | I6: SSD | J6: 180 | K6: 8.5 | L6: 2560*1440 | M6: 14 | N6: 1.5 | O6: 20 | P6: 1698
C7: HP | D7: Elitebook 840 | E7: i5-4210u | F7: 1.7 | G7: 2 | H7: 4 | I7: SATA | J7: 500 | K7: 13 | L7: 1366*768 | M7: 14 | N7: 1.6 | O7: 21 | P7: 1179
C8: HP | D8: Elitebook Folio | E8: i5-5200u | F8: 2.2 | G8: 2 | H8: 4 | I8: SSD | J8: 128 | K8: 10 | L8: 1600*900 | M8: 14 | N8: 1.4 | O8: 16 | P8: 1784 | S8: Nicht numerische Werte einer Wichtung unterziehen
C9: Fujitsu | D9: Lifebook U904 | E9: i7-4600u | F9: 2.1 | G9: 2 | H9: 10 | I9: SSD | J9: 256 | K9: 10 | L9: 3200*1800 | M9: 14 | N9: 1.4 | O9: 16 | P9: 1879 | S9: Werte bei denen kleiner besser ist als größer, Kehrwert bilden
C10: Fujitsu | D10: Lifebook E754 | E10: i5-4210m | F10: 2.6 | G10: 2 | H10: 8 | I10: SSD | J10: 256 | K10: 10 | L10: 1920*1080 | M10: 15 | N10: 1.9 | O10: 20 | P10: 1189 | S10: Normieren auf Intervall 0 bis 1
C11: Microsoft | D11: Surface 3 Pro | E11: i5-4300u | F11: 1.9 | G11: 2 | H11: 4 | I11: SSD | J11: 128 | K11: 8 | L11: 2160*1440 | M11: 12 | N11: 0.8 | O11: 9 | P11: 1049
A13: Wichtung | C13: =C3 -> 1 | D13: =D3 -> 1 | E13: =E3 -> 1 | F13: =F3 -> 5 | G13: =G3 -> 5 | H13: =H3 -> 5 | I13: =I3 -> 1 | J13: =J3 -> 5 | ... P13: =P3 -> 10
C14: Marke | D14: Modell | E14: CPU | F14: GHz | G14: Kerne | H14: RAM GB | I14: SSD/HDD | J14: Speicher | K14: Akku Stunden | L14: Auflösung | M14: Größe Zoll | N14: Gewicht | O14: Höhe | P14: Preis
C15: =VLOOKUP(C5,Hilfsblatt!$B$4:$C$7,2, FALSE) -> 10 | D15: =VLOOKUP(D5,Hilfsblatt!$B$10:$C$16,2, FALSE) -> 10 | E15: =VLOOKUP(E5,Hilfsblatt!$E$4:$F$9,2, FALSE) -> 10 | F15: =F5 -> 2.6 | G15: =G5 -> 2 | H15: =H5 -> 12 | I15: =VLOOKUP(I5,Hilfsblatt!$E$12:$F$13,2, FALSE) -> 10 | J15: =J5 -> 512 | K15: =K5 -> 19 | L15: =VLOOKUP(L5,Hilfsblatt!$H$4:$I$9,2, FALSE) -> 8 | M15: =M5 -> 14 | N15: =1/N5 -> 0.625 | O15: =1/O5 -> 0.047619048 | P15: =1/P5 -> 0.00052659294
C16: =VLOOKUP(C6,Hilfsblatt!$B$4:$C$7,2, FALSE) -> 10 | D16: =VLOOKUP(D6,Hilfsblatt!$B$10:$C$16,2, FALSE) -> 8 | E16: =VLOOKUP(E6,Hilfsblatt!$E$4:$F$9,2, FALSE) -> 7 | F16: =F6 -> 1.9 | G16: =G6 -> 2 | H16: =H6 -> 8 | I16: =VLOOKUP(I6,Hilfsblatt!$E$12:$F$13,2, FALSE) -> 10 | J16: =J6 -> 180 | K16: =K6 -> 8.5 | L16: =VLOOKUP(L6,Hilfsblatt!$H$4:$I$9,2, FALSE) -> 9 | M16: =M6 -> 14 | N16: =1/N6 -> 0.66666667 | O16: =1/O6 -> 0.05 | P16: =1/P6 -> 0.00058892815
C17: =VLOOKUP(C7,Hilfsblatt!$B$4:$C$7,2, FALSE) -> 8 | D17: =VLOOKUP(D7,Hilfsblatt!$B$10:$C$16,2, FALSE) -> 7 | E17: =VLOOKUP(E7,Hilfsblatt!$E$4:$F$9,2, FALSE) -> 6 | F17: =F7 -> 1.7 | G17: =G7 -> 2 | H17: =H7 -> 4 | I17: =VLOOKUP(I7,Hilfsblatt!$E$12:$F$13,2, FALSE) -> 5 | J17: =J7 -> 500 | K17: =K7 -> 13 | L17: =VLOOKUP(L7,Hilfsblatt!$H$4:$I$9,2, FALSE) -> 2 | M17: =M7 -> 14 | N17: =1/N7 -> 0.625 | O17: =1/O7 -> 0.047619048 | P17: =1/P7 -> 0.00084817642
C18: =VLOOKUP(C8,Hilfsblatt!$B$4:$C$7,2, FALSE) -> 8 | D18: =VLOOKUP(D8,Hilfsblatt!$B$10:$C$16,2, FALSE) -> 8 | E18: =VLOOKUP(E8,Hilfsblatt!$E$4:$F$9,2, FALSE) -> 9 | F18: =F8 -> 2.2 | G18: =G8 -> 2 | H18: =H8 -> 4 | I18: =VLOOKUP(I8,Hilfsblatt!$E$12:$F$13,2, FALSE) -> 10 | J18: =J8 -> 128 | K18: =K8 -> 10 | L18: =VLOOKUP(L8,Hilfsblatt!$H$4:$I$9,2, FALSE) -> 7 | M18: =M8 -> 14 | N18: =1/N8 -> 0.71428571 | O18: =1/O8 -> 0.0625 | P18: =1/P8 -> 0.00056053812
C19: =VLOOKUP(C9,Hilfsblatt!$B$4:$C$7,2, FALSE) -> 7 | D19: =VLOOKUP(D9,Hilfsblatt!$B$10:$C$16,2, FALSE) -> 7 | E19: =VLOOKUP(E9,Hilfsblatt!$E$4:$F$9,2, FALSE) -> 8 | F19: =F9 -> 2.1 | G19: =G9 -> 2 | H19: =H9 -> 10 | I19: =VLOOKUP(I9,Hilfsblatt!$E$12:$F$13,2, FALSE) -> 10 | J19: =J9 -> 256 | K19: =K9 -> 10 | L19: =VLOOKUP(L9,Hilfsblatt!$H$4:$I$9,2, FALSE) -> 10 | M19: =M9 -> 14 | N19: =1/N9 -> 0.71428571 | O19: =1/O9 -> 0.0625 | P19: =1/P9 -> 0.00053219798
C20: =VLOOKUP(C10,Hilfsblatt!$B$4:$C$7,2, FALSE) -> 7 | D20: =VLOOKUP(D10,Hilfsblatt!$B$10:$C$16,2, FALSE) -> 7 | E20: =VLOOKUP(E10,Hilfsblatt!$E$4:$F$9,2, FALSE) -> 9 | F20: =F10 -> 2.6 | G20: =G10 -> 2 | H20: =H10 -> 8 | I20: =VLOOKUP(I10,Hilfsblatt!$E$12:$F$13,2, FALSE) -> 10 | J20: =J10 -> 256 | K20: =K10 -> 10 | L20: =VLOOKUP(L10,Hilfsblatt!$H$4:$I$9,2, FALSE) -> 8 | M20: =M10 -> 15 | N20: =1/N10 -> 0.52631579 | O20: =1/O10 -> 0.05 | P20: =1/P10 -> 0.00084104289
C21: =VLOOKUP(C11,Hilfsblatt!$B$4:$C$7,2, FALSE) -> 9 | D21: =VLOOKUP(D11,Hilfsblatt!$B$10:$C$16,2, FALSE) -> 9 | E21: =VLOOKUP(E11,Hilfsblatt!$E$4:$F$9,2, FALSE) -> 7 | F21: =F11 -> 1.9 | G21: =G11 -> 2 | H21: =H11 -> 4 | I21: =VLOOKUP(I11,Hilfsblatt!$E$12:$F$13,2, FALSE) -> 10 | J21: =J11 -> 128 | K21: =K11 -> 8 | L21: =VLOOKUP(L11,Hilfsblatt!$H$4:$I$9,2, FALSE) -> 9 | M21: =M11 -> 12 | N21: =1/N11 -> 1.25 | O21: =1/O11 -> 0.11111111 | P21: =1/P11 -> 0.00095328885
B22: Max | C22: =MAX(C15:C21) -> 10 | D22: =MAX(D15:D21) -> 10 | E22: =MAX(E15:E21) -> 10 | F22: =MAX(F15:F21) -> 2.6 | G22: =MAX(G15:G21) -> 2 | H22: =MAX(H15:H21) -> 12 | I22: =MAX(I15:I21) -> 10 | J22: =MAX(J15:J21) -> 512 | ... P22: =MAX(P15:P21) -> 0.00095328885
A24: Normierung | C24: =C3 -> 1 | D24: =D3 -> 1 | E24: =E3 -> 1 | F24: =F3 -> 5 | G24: =G3 -> 5 | H24: =H3 -> 5 | I24: =I3 -> 1 | J24: =J3 -> 5 | ... P24: =P3 -> 10
C25: Marke | D25: Modell | E25: CPU | F25: GHz | G25: Kerne | H25: RAM GB | I25: SSD/HDD | J25: Speicher | K25: Akku Stunden | L25: Auflösung | M25: Größe Zoll | N25: Gewicht | O25: Höhe | P25: Preis
C26: =C15/C$22 -> 1 | D26: =D15/D$22 -> 1 | E26: =E15/E$22 -> 1 | F26: =F15/F$22 -> 1 | G26: =G15/G$22 -> 1 | H26: =H15/H$22 -> 1 | I26: =I15/I$22 -> 1 | J26: =J15/J$22 -> 1 | ... P26: =P15/P$22 -> 0.552396
C27: =C16/C$22 -> 1 | D27: =D16/D$22 -> 0.8 | E27: =E16/E$22 -> 0.7 | F27: =F16/F$22 -> 0.73076923 | G27: =G16/G$22 -> 1 | H27: =H16/H$22 -> 0.66666667 | I27: =I16/I$22 -> 1 | J27: =J16/J$22 -> 0.3515625 | ... P27: =P16/P$22 -> 0.61778563
C28: =C17/C$22 -> 0.8 | D28: =D17/D$22 -> 0.7 | E28: =E17/E$22 -> 0.6 | F28: =F17/F$22 -> 0.65384615 | G28: =G17/G$22 -> 1 | H28: =H17/H$22 -> 0.33333333 | I28: =I17/I$22 -> 0.5 | J28: =J17/J$22 -> 0.9765625 | ... P28: =P17/P$22 -> 0.88973707
C29: =C18/C$22 -> 0.8 | D29: =D18/D$22 -> 0.8 | E29: =E18/E$22 -> 0.9 | F29: =F18/F$22 -> 0.84615385 | G29: =G18/G$22 -> 1 | H29: =H18/H$22 -> 0.33333333 | I29: =I18/I$22 -> 1 | J29: =J18/J$22 -> 0.25 | ... P29: =P18/P$22 -> 0.58800448
C30: =C19/C$22 -> 0.7 | D30: =D19/D$22 -> 0.7 | E30: =E19/E$22 -> 0.8 | F30: =F19/F$22 -> 0.80769231 | G30: =G19/G$22 -> 1 | H30: =H19/H$22 -> 0.83333333 | I30: =I19/I$22 -> 1 | J30: =J19/J$22 -> 0.5 | ... P30: =P19/P$22 -> 0.55827568
C31: =C20/C$22 -> 0.7 | D31: =D20/D$22 -> 0.7 | E31: =E20/E$22 -> 0.9 | F31: =F20/F$22 -> 1 | G31: =G20/G$22 -> 1 | H31: =H20/H$22 -> 0.66666667 | I31: =I20/I$22 -> 1 | J31: =J20/J$22 -> 0.5 | ... P31: =P20/P$22 -> 0.88225399
C32: =C21/C$22 -> 0.9 | D32: =D21/D$22 -> 0.9 | E32: =E21/E$22 -> 0.7 | F32: =F21/F$22 -> 0.73076923 | G32: =G21/G$22 -> 1 | H32: =H21/H$22 -> 0.33333333 | I32: =I21/I$22 -> 1 | J32: =J21/J$22 -> 0.25 | ... P32: =P21/P$22 -> 1
A34: Punktzahl
C35: Marke | D35: Modell | E35: Punkte
C36: Lenovo | D36: T450s | E36: =$C$24*C26+$D$24*D26+$E$24*E26+$F$24*F26+$G$24*G26+$H$24*H26+$I$24*I26+$J$24*J26+$K$24*K26+$L$24*L26+$M$24*M26+$N$24*N26+$O$24*O26+$P$24*P26 -> 33.185865
C37: Lenovo | D37: X1 Carbon | E37: =$C$24*C27+$D$24*D27+$E$24*E27+$F$24*F27+$G$24*G27+$H$24*H27+$I$24*I27+$J$24*J27+$K$24*K27+$L$24*L27+$M$24*M27+$N$24*N27+$O$24*O27+$P$24*P27 -> 26.686883
C38: HP | D38: Elitebook 840 | E38: =$C$24*C28+$D$24*D28+$E$24*E28+$F$24*F28+$G$24*G28+$H$24*H28+$I$24*I28+$J$24*J28+$K$24*K28+$L$24*L28+$M$24*M28+$N$24*N28+$O$24*O28+$P$24*P28 -> 29.062196
C39: HP | D39: Elitebook Folio | E39: =$C$24*C29+$D$24*D29+$E$24*E29+$F$24*F29+$G$24*G29+$H$24*H29+$I$24*I29+$J$24*J29+$K$24*K29+$L$24*L29+$M$24*M29+$N$24*N29+$O$24*O29+$P$24*P29 -> 24.821058
C40: Fujitsu | D40: Lifebook U904 | E40: =$C$24*C30+$D$24*D30+$E$24*E30+$F$24*F30+$G$24*G30+$H$24*H30+$I$24*I30+$J$24*J30+$K$24*K30+$L$24*L30+$M$24*M30+$N$24*N30+$O$24*O30+$P$24*P30 -> 28.081463
C41: Fujitsu | D41: Lifebook E754 | E41: =$C$24*C31+$D$24*D31+$E$24*E31+$F$24*F31+$G$24*G31+$H$24*H31+$I$24*I31+$J$24*J31+$K$24*K31+$L$24*L31+$M$24*M31+$N$24*N31+$O$24*O31+$P$24*P31 -> 31.153242
C42: Microsoft | D42: Surface 3 Pro | E42: =$C$24*C32+$D$24*D32+$E$24*E32+$F$24*F32+$G$24*G32+$H$24*H32+$I$24*I32+$J$24*J32+$K$24*K32+$L$24*L32+$M$24*M32+$N$24*N32+$O$24*O32+$P$24*P32 -> 29.191565

Sheet Hilfsblatt
B3: Marke | C3: Punktzahl | E3: CPU | F3: Punktzahl | H3: Auflösung | I3: Punktzahl
B4: Lenovo | C4: 10 | E4: i7-5600u | F4: 10 | H4: 1920*1080 | I4: 8
B5: HP | C5: 8 | E5: i5-4300u | F5: 7 | H5: 2560*1440 | I5: 9
B6: Fujitsu | C6: 7 | E6: i5-4210u | F6: 6 | H6: 1366*768 | I6: 2
B7: Microsoft | C7: 9 | E7: i5-5200u | F7: 9 | H7: 1600*900 | I7: 7
E8: i7-4600u | F8: 8 | H8: 3200*1800 | I8: 10
B9: Modell | C9: Punktzahl | E9: i5-4210m | F9: 9 | H9: 2160*1440 | I9: 9
B10: T450s | C10: 10
B11: X1 Carbon | C11: 8 | E11: SSD/HDD | F11: Punktzahl
B12: Elitebook 840 | C12: 7 | E12: SSD | F12: 10
B13: Elitebook Folio | C13: 8 | E13: SATA | F13: 5
B14: Lifebook U904 | C14: 7
B15: Lifebook E754 | C15: 7
B16: Surface 3 Pro | C16: 9
